BEGIN:VCALENDAR
VERSION:2.0
PRODID:-//Makerere University College of Business and Management Sciences - ECPv6.15.20//NONSGML v1.0//EN
CALSCALE:GREGORIAN
METHOD:PUBLISH
X-ORIGINAL-URL:https://bams.mak.ac.ug
X-WR-CALDESC:Events for Makerere University College of Business and Management Sciences
REFRESH-INTERVAL;VALUE=DURATION:PT1H
X-Robots-Tag:noindex
X-PUBLISHED-TTL:PT1H
BEGIN:VTIMEZONE
TZID:UTC
BEGIN:STANDARD
TZOFFSETFROM:+0000
TZOFFSETTO:+0000
TZNAME:UTC
DTSTART:20210101T000000
END:STANDARD
END:VTIMEZONE
BEGIN:VEVENT
DTSTART;VALUE=DATE:20220205
DTEND;VALUE=DATE:20220516
DTSTAMP:20260420T132354
CREATED:20220206T074617Z
LAST-MODIFIED:20220206T074759Z
UID:6674-1644019200-1652659199@bams.mak.ac.ug
SUMMARY:Semester One 2021/2022
DESCRIPTION:The first semester of the Academic Year 2021/2022 will start on the 5th of February 2022 and run for 14 weeks until the 15th of May 2022.
URL:https://bams.mak.ac.ug/event/semester-one-2021-2022/
LOCATION:Makerere University\, Makerere University\, Kampala\, Uganda
CATEGORIES:University-Wide
ATTACH;FMTTYPE=image/jpeg:https://bams.mak.ac.ug/wp-content/uploads/2022/02/students-in-class-1.jpg
END:VEVENT
BEGIN:VEVENT
DTSTART;VALUE=DATE:20220205
DTEND;VALUE=DATE:20220516
DTSTAMP:20260420T132354
CREATED:20220224T122700Z
LAST-MODIFIED:20220224T122700Z
UID:6814-1644019200-1652659199@bams.mak.ac.ug
SUMMARY:Semester 1 2021/2022
DESCRIPTION:Semester One 2021/2022 will run for 14 weeks\, beginning on Saturday 5th February 2022 to Saturday 15th May 2022
URL:https://bams.mak.ac.ug/event/semester-1-2021-2022/
LOCATION:Makerere University\, Makerere University\, Kampala\, Uganda
CATEGORIES:University-Wide
END:VEVENT
BEGIN:VEVENT
DTSTART;TZID=UTC:20220310T080000
DTEND;TZID=UTC:20220310T170000
DTSTAMP:20260420T132354
CREATED:20220309T063027Z
LAST-MODIFIED:20220309T083620Z
UID:6888-1646899200-1646931600@bams.mak.ac.ug
SUMMARY:Open Day and Launch of PIM Centre of Excellence
DESCRIPTION:Makerere University is pleased to be co-hosting with the Ministry of Finance\, Planning and Economic Development the Public Investment Management (PIM) Open Day and Launch of the PIM Centre of Excellence. \nTheme: “Towards Raising Returns on Public Investments” \nDate and Time: Thursday 10th March\, 2022 starting at 9:00AM EAT. \n  \nObjectives of the Open Day: \n\nRaising knowledge to the wider public audience about the importance of strengthening public investment management across the entire project cycle\, while learning from reforms that have been undertaken in-country and by practitioners elsewhere;\nSensitising stakeholders from across government about the interventions and how they could strengthen public investment management in the country; and\nDemonstrating the value for money and results that have been realised out of the interventions.\n\nMeeting Link \nhttps://bit.ly/WBOpenDayUG  \nContact Information: \nProfessor Edward Bbaale\nDean\, School of Economics\nDirector EfD-Mak Centre\nCollege of Business and Management Sciences (CoBAMS)\nMob: +256783573395\nEmail: eddybbaale@gmail.com \n  \nThe PIM Centre of Excellence is housed at the College of Business and Management Sciences (CoBAMS).
URL:https://bams.mak.ac.ug/event/open-day-and-launch-of-pim-centre-of-excellence/
LOCATION:Freedom square and CTF 2 – Level 5\, Makerere University\, Kampala\, 256\, Uganda
CATEGORIES:Other
ATTACH;FMTTYPE=image/jpeg:https://bams.mak.ac.ug/wp-content/uploads/2022/03/WBG-Public-Investment-Management-Open-Day-10thMar2022.jpg
END:VEVENT
BEGIN:VEVENT
DTSTART;TZID=UTC:20220310T090000
DTEND;TZID=UTC:20220310T140000
DTSTAMP:20260420T132354
CREATED:20220309T091542Z
LAST-MODIFIED:20220309T091609Z
UID:6898-1646902800-1646920800@bams.mak.ac.ug
SUMMARY:Research dissemination workshop
DESCRIPTION:Join us for the public dissemination of the research study titled: “Parent-Child Communication on Sexual and Reproductive Health in border districts of Eastern Uganda” – happening tomorrow at 9:00am. \nPrincipal Investigator: Dr. Stephen O. Wandera\, Lecturer\, Department of Population Studies\, School of Statistics and Planning\, College of Business and Management Sciences\, Makerere University.\nCo-Investigator: Mr. Fred Ngabirano\, Commissioner\, Children and Youth Affairs\, Ministry of Gender\, Labour and Social Development\n\nMeeting Link: https://zoom.us/u/acklrvw30\nWebinar ID: 986 5092 7170\nPasscode: 605354
URL:https://bams.mak.ac.ug/event/research-dissemination-workshop/
LOCATION:Online (Virtual)\, Makerere University\, Kampala\, Uganda
CATEGORIES:Research
ATTACH;FMTTYPE=image/jpeg:https://bams.mak.ac.ug/wp-content/uploads/2022/03/Wandera-Research-dissemination-CoBAMS.jpg
END:VEVENT
BEGIN:VEVENT
DTSTART;TZID=UTC:20220317T090000
DTEND;TZID=UTC:20220317T120000
DTSTAMP:20260420T132354
CREATED:20220304T104452Z
LAST-MODIFIED:20220304T104452Z
UID:6857-1647507600-1647518400@bams.mak.ac.ug
SUMMARY:PhD Public Defense of Mr. Kasimu Sendawula
DESCRIPTION:The Dean\, School of Business invites you to the PhD Public Defense of Mr. Kasimu Sendawula scheduled to take place on Thursday 17th March\, 2022 at 9:00am \nThesis: Environmental Sustainability Practices of Manufacturing Small and Medium Enterprises (SMES) in Uganda \nSupervisors: \n\nAssoc. Prof. Peter Turyakira\nAssoc. Prof. Vincent Bagire\nDr. Cathy I. Mbidde\n\nVenue: Conference Room\, Block B\, College of Business and Management Sciences \nPlease view the research abstract below: \nAbstract _ Kasimu \n  \n  \n 
URL:https://bams.mak.ac.ug/event/phd-public-defense-of-mr-kasimu-sendawula/
LOCATION:Conference Hall\, Block B\, CoBAMS\, Conference Room\, Block B\, CoBAMS\, Kampala\, Uganda
CATEGORIES:PhD Defense
ATTACH;FMTTYPE=image/jpeg:https://bams.mak.ac.ug/wp-content/uploads/2022/02/School-of-business-scaled.jpg
END:VEVENT
END:VCALENDAR