BEGIN:VCALENDAR
VERSION:2.0
PRODID:-//Makerere University College of Business and Management Sciences - ECPv6.15.20//NONSGML v1.0//EN
CALSCALE:GREGORIAN
METHOD:PUBLISH
X-WR-CALNAME:Makerere University College of Business and Management Sciences
X-ORIGINAL-URL:https://bams.mak.ac.ug
X-WR-CALDESC:Events for Makerere University College of Business and Management Sciences
REFRESH-INTERVAL;VALUE=DURATION:PT1H
X-Robots-Tag:noindex
X-PUBLISHED-TTL:PT1H
BEGIN:VTIMEZONE
TZID:UTC
BEGIN:STANDARD
TZOFFSETFROM:+0000
TZOFFSETTO:+0000
TZNAME:UTC
DTSTART:20210101T000000
END:STANDARD
END:VTIMEZONE
BEGIN:VEVENT
DTSTART;VALUE=DATE:20220205
DTEND;VALUE=DATE:20220516
DTSTAMP:20260420T173001
CREATED:20220206T074617Z
LAST-MODIFIED:20220206T074759Z
UID:6674-1644019200-1652659199@bams.mak.ac.ug
SUMMARY:Semester One 2021/2022
DESCRIPTION:The first semester of the Academic Year 2021/2022 will start on the 5th of February 2022 and run for 14 weeks until the 15th of May 2022.
URL:https://bams.mak.ac.ug/event/semester-one-2021-2022/
LOCATION:Makerere University\, Makerere University\, Kampala\, Uganda
CATEGORIES:University-Wide
ATTACH;FMTTYPE=image/jpeg:https://bams.mak.ac.ug/wp-content/uploads/2022/02/students-in-class-1.jpg
END:VEVENT
BEGIN:VEVENT
DTSTART;VALUE=DATE:20220205
DTEND;VALUE=DATE:20220516
DTSTAMP:20260420T173001
CREATED:20220224T122700Z
LAST-MODIFIED:20220224T122700Z
UID:6814-1644019200-1652659199@bams.mak.ac.ug
SUMMARY:Semester 1 2021/2022
DESCRIPTION:Semester One 2021/2022 will run for 14 weeks\, beginning on Saturday 5th February 2022 to Saturday 15th May 2022
URL:https://bams.mak.ac.ug/event/semester-1-2021-2022/
LOCATION:Makerere University\, Makerere University\, Kampala\, Uganda
CATEGORIES:University-Wide
END:VEVENT
BEGIN:VEVENT
DTSTART;TZID=UTC:20220228T080000
DTEND;TZID=UTC:20220228T110000
DTSTAMP:20260420T173001
CREATED:20220117T091323Z
LAST-MODIFIED:20220117T091328Z
UID:6486-1646035200-1646046000@bams.mak.ac.ug
SUMMARY:PhD Defense of Ronald Kakooza
DESCRIPTION:The School of Business\, CoBAMS invites you to the PhD defense of Mr. Ronald Kakooza\, which will take place on the 28th February\, 2022 at the Conference Hall of CTF2.
URL:https://bams.mak.ac.ug/event/phd-defense-of-ronald-kakooza/
LOCATION:KAMPALA
CATEGORIES:PhD Defense
ATTACH;FMTTYPE=image/jpeg:https://bams.mak.ac.ug/wp-content/uploads/2022/01/Makerere-CoBAMS-School-of-Business-Full-Capacity-Building-3rdNov2021-Speaker2.jpeg
END:VEVENT
END:VCALENDAR