BEGIN:VCALENDAR
VERSION:2.0
PRODID:-//Makerere University College of Business and Management Sciences - ECPv6.15.20//NONSGML v1.0//EN
CALSCALE:GREGORIAN
METHOD:PUBLISH
X-ORIGINAL-URL:https://bams.mak.ac.ug
X-WR-CALDESC:Events for Makerere University College of Business and Management Sciences
REFRESH-INTERVAL;VALUE=DURATION:PT1H
X-Robots-Tag:noindex
X-PUBLISHED-TTL:PT1H
BEGIN:VTIMEZONE
TZID:UTC
BEGIN:STANDARD
TZOFFSETFROM:+0000
TZOFFSETTO:+0000
TZNAME:UTC
DTSTART:20210101T000000
END:STANDARD
END:VTIMEZONE
BEGIN:VEVENT
DTSTART;TZID=UTC:20220523T080000
DTEND;TZID=UTC:20220527T170000
DTSTAMP:20260420T093052
CREATED:20220224T124323Z
LAST-MODIFIED:20220224T124323Z
UID:6821-1653292800-1653670800@bams.mak.ac.ug
SUMMARY:72nd Graduation Week
DESCRIPTION:
URL:https://bams.mak.ac.ug/event/72nd-graduation-week/
LOCATION:Makerere University\, Makerere University\, Kampala\, Uganda
CATEGORIES:University-Wide
ATTACH;FMTTYPE=image/png:https://bams.mak.ac.ug/wp-content/uploads/2022/02/CoBAMS-Alumni.png
END:VEVENT
END:VCALENDAR